BEGIN:VCALENDAR
VERSION:2.0
PRODID:-//Hythe Sea Scouts - ECPv6.15.17.1//NONSGML v1.0//EN
CALSCALE:GREGORIAN
METHOD:PUBLISH
X-WR-CALNAME:Hythe Sea Scouts
X-ORIGINAL-URL:https://hytheseascouts.org.uk
X-WR-CALDESC:Events for Hythe Sea Scouts
REFRESH-INTERVAL;VALUE=DURATION:PT1H
X-Robots-Tag:noindex
X-PUBLISHED-TTL:PT1H
BEGIN:VTIMEZONE
TZID:UTC
BEGIN:STANDARD
TZOFFSETFROM:+0000
TZOFFSETTO:+0000
TZNAME:UTC
DTSTART:20240101T000000
END:STANDARD
END:VTIMEZONE
BEGIN:VEVENT
DTSTART;TZID=UTC:20251105T174500
DTEND;TZID=UTC:20251105T200000
DTSTAMP:20260420T205437
CREATED:20250807T204403Z
LAST-MODIFIED:20250930T115539Z
UID:6688-1762364700-1762372800@hytheseascouts.org.uk
SUMMARY:Bonfire night 2025
DESCRIPTION:Our annual Bonfire night is at our hut with all sections & your families invited. Bonfire will be started at 18:30 and the judging of the Guy Fawkes soon after. \nWe ask that members make a Guy Fawkes ready for the 5th November\, we will find a judge to issue a price and then you see your Guy on the fire. \nThere will be hot food and some drinks for purchase on the night. \nPlease register your RSVP below so we can manage the space available on the beach and prevent over crowding. \nTHIS IS A PRIVATE EVENT AND NOT OPEN TO THE PUBLIC \nHealth & Safety \n\nThere will be a safe distance marked with rope so please don’t cross it.\nParents please stay for the duration\, this is not a normal night with drop off & collection\, its a fun evening for the family\nNo sparklers are allowed unless supervised by a parent\, the group and the leaders don’t take any responsibility with regards sparkles\nNo fireworks are allowed at the hut\nThis event is held outside and is weather dependent
URL:https://hytheseascouts.org.uk/event/bonfire-night-2025/
LOCATION:4th NFS Hythe Sea Scout HQ\, Shore Road\, Hythe\, Hampshire\, SO45 6DF\, United Kingdom
ORGANIZER;CN="Graham Bateson":MAILTO:Graham@Hytheseascouts.org.uk
END:VEVENT
END:VCALENDAR